BEGIN:VCALENDAR
VERSION:2.0
PRODID:-//eventon.com NONSGML v1.0//EN
CALSCALE:GREGORIAN
METHOD:PUBLISH
BEGIN:VEVENT
UID:69e9e276e7049
DTSTAMP:20260423T091222Z
DTSTART:20230812T220000Z
DTEND:20230813T010000Z
LOCATION:Historic State Theater - Elizabethtown 209 W. Dixie Avenue\,  Elizabethtown\,  KY 42701
SUMMARY:2023 Induction Celebration
DESCRIPTION:The 2023 Kentucky High School Basketball Hall of Fame Induction
  Ceremony is Saturday\,  August 12\,  2023\,  at the Historic State Theater
 \,  209 W. Dixie Avenue\,  Elizabethtown\,  KY 42701. Doors open at 6:00 p.
 m.\,  with the ceremony starting at 7:00 P.M. https://gofan.co/event/100870
 1?schoolId=KY72725 &nbsp;\nhttps://khsbhf.com/events/2023-induction-celebra
 tion/
URL:https://khsbhf.com/events/2023-induction-celebration/
END:VEVENT
END:VCALENDAR